BEGIN:VCALENDAR
VERSION:2.0
PRODID:-//www.bassethoundrescue.org - ECPv6.3.0//NONSGML v1.0//EN
CALSCALE:GREGORIAN
METHOD:PUBLISH
X-WR-CALNAME:www.bassethoundrescue.org
X-ORIGINAL-URL:https://www.bassethoundrescue.org
X-WR-CALDESC:Events for www.bassethoundrescue.org
REFRESH-INTERVAL;VALUE=DURATION:PT1H
X-Robots-Tag:noindex
X-PUBLISHED-TTL:PT1H
BEGIN:VTIMEZONE
TZID:America/Los_Angeles
BEGIN:DAYLIGHT
TZOFFSETFROM:-0800
TZOFFSETTO:-0700
TZNAME:PDT
DTSTART:20220313T100000
END:DAYLIGHT
BEGIN:STANDARD
TZOFFSETFROM:-0700
TZOFFSETTO:-0800
TZNAME:PST
DTSTART:20221106T090000
END:STANDARD
END:VTIMEZONE
BEGIN:VEVENT
DTSTART;TZID=America/Los_Angeles:20220423T100000
DTEND;TZID=America/Los_Angeles:20220423T150000
DTSTAMP:20260423T032041
CREATED:20210214T204304Z
LAST-MODIFIED:20220327T155822Z
UID:84294-1650708000-1650726000@www.bassethoundrescue.org
SUMMARY:25th Annual Spring Games
DESCRIPTION:Back in person!  Visit the event website for more information and to register your hound!
URL:https://www.bassethoundrescue.org/event/annual-spring-games/
LOCATION:CA
CATEGORIES:Fundraisers,Meet and Greets
ATTACH;FMTTYPE=image/jpeg:https://www.bassethoundrescue.org/wp-content/uploads/2021/02/Spring-Games-Logo.jpg
END:VEVENT
END:VCALENDAR