BEGIN:VCALENDAR
VERSION:2.0
PRODID:-//www.bassethoundrescue.org - ECPv6.3.0//NONSGML v1.0//EN
CALSCALE:GREGORIAN
METHOD:PUBLISH
X-ORIGINAL-URL:https://www.bassethoundrescue.org
X-WR-CALDESC:Events for www.bassethoundrescue.org
REFRESH-INTERVAL;VALUE=DURATION:PT1H
X-Robots-Tag:noindex
X-PUBLISHED-TTL:PT1H
BEGIN:VTIMEZONE
TZID:America/Los_Angeles
BEGIN:DAYLIGHT
TZOFFSETFROM:-0800
TZOFFSETTO:-0700
TZNAME:PDT
DTSTART:20210314T100000
END:DAYLIGHT
BEGIN:STANDARD
TZOFFSETFROM:-0700
TZOFFSETTO:-0800
TZNAME:PST
DTSTART:20211107T090000
END:STANDARD
END:VTIMEZONE
BEGIN:VEVENT
DTSTART;TZID=America/Los_Angeles:20210731T100000
DTEND;TZID=America/Los_Angeles:20210731T120000
DTSTAMP:20260423T164457
CREATED:20210727T180622Z
LAST-MODIFIED:20210727T180622Z
UID:85355-1627725600-1627732800@www.bassethoundrescue.org
SUMMARY:Annual Basset Beach Day
DESCRIPTION:
URL:https://www.bassethoundrescue.org/event/annual-basset-beach-day/
LOCATION:Rosie’s Dog Beach\, 5000 E Ocean Blvd\, Long Beach\, CA\, 90803\, United States
CATEGORIES:Meet and Greets
END:VEVENT
END:VCALENDAR