BEGIN:VCALENDAR
VERSION:2.0
PRODID:-//www.bassethoundrescue.org - ECPv6.3.0//NONSGML v1.0//EN
CALSCALE:GREGORIAN
METHOD:PUBLISH
X-ORIGINAL-URL:https://www.bassethoundrescue.org
X-WR-CALDESC:Events for www.bassethoundrescue.org
REFRESH-INTERVAL;VALUE=DURATION:PT1H
X-Robots-Tag:noindex
X-PUBLISHED-TTL:PT1H
BEGIN:VTIMEZONE
TZID:America/Los_Angeles
BEGIN:DAYLIGHT
TZOFFSETFROM:-0800
TZOFFSETTO:-0700
TZNAME:PDT
DTSTART:20230312T100000
END:DAYLIGHT
BEGIN:STANDARD
TZOFFSETFROM:-0700
TZOFFSETTO:-0800
TZNAME:PST
DTSTART:20231105T090000
END:STANDARD
END:VTIMEZONE
BEGIN:VEVENT
DTSTART;VALUE=DATE:20231128
DTEND;VALUE=DATE:20231204
DTSTAMP:20260422T084040
CREATED:20231012T164106Z
LAST-MODIFIED:20231126T030644Z
UID:117103-1701129600-1701647999@www.bassethoundrescue.org
SUMMARY:Giving Tuesday Kick-Off
DESCRIPTION:Please give what you can.
URL:https://www.bassethoundrescue.org/event/giving-tuesday-kick-off/
LOCATION:CA
CATEGORIES:Fundraisers
END:VEVENT
BEGIN:VEVENT
DTSTART;TZID=America/Los_Angeles:20231202T100000
DTEND;TZID=America/Los_Angeles:20231202T120000
DTSTAMP:20260422T084040
CREATED:20231012T163958Z
LAST-MODIFIED:20231114T030612Z
UID:117101-1701511200-1701518400@www.bassethoundrescue.org
SUMMARY:Brunch with Bassets
DESCRIPTION:
URL:https://www.bassethoundrescue.org/event/brunch-with-bassets-2/
LOCATION:Central Park (near the dog park)\, Huntington Beach\, CA\, United States
ATTACH;FMTTYPE=image/jpeg:https://www.bassethoundrescue.org/wp-content/uploads/2023/10/2023-12-2-BHRSC-BWB-Holiday.jpg
END:VEVENT
END:VCALENDAR