BEGIN:VCALENDAR
VERSION:2.0
PRODID:-//www.bassethoundrescue.org - ECPv6.3.0//NONSGML v1.0//EN
CALSCALE:GREGORIAN
METHOD:PUBLISH
X-ORIGINAL-URL:https://www.bassethoundrescue.org
X-WR-CALDESC:Events for www.bassethoundrescue.org
REFRESH-INTERVAL;VALUE=DURATION:PT1H
X-Robots-Tag:noindex
X-PUBLISHED-TTL:PT1H
BEGIN:VTIMEZONE
TZID:America/Los_Angeles
BEGIN:DAYLIGHT
TZOFFSETFROM:-0800
TZOFFSETTO:-0700
TZNAME:PDT
DTSTART:20220313T100000
END:DAYLIGHT
BEGIN:STANDARD
TZOFFSETFROM:-0700
TZOFFSETTO:-0800
TZNAME:PST
DTSTART:20221106T090000
END:STANDARD
END:VTIMEZONE
BEGIN:VEVENT
DTSTART;VALUE=DATE:20221129
DTEND;VALUE=DATE:20221205
DTSTAMP:20260422T084040
CREATED:20161201T044754Z
LAST-MODIFIED:20220131T011935Z
UID:77790-1669680000-1670198399@www.bassethoundrescue.org
SUMMARY:Giving Tuesday
DESCRIPTION:Giving Tuesday event
URL:https://www.bassethoundrescue.org/event/giving-tuesday/
LOCATION:CA
END:VEVENT
BEGIN:VEVENT
DTSTART;TZID=America/Los_Angeles:20221203T100000
DTEND;TZID=America/Los_Angeles:20221203T120000
DTSTAMP:20260422T084040
CREATED:20171019T165341Z
LAST-MODIFIED:20220131T005735Z
UID:79138-1670061600-1670068800@www.bassethoundrescue.org
SUMMARY:Brunch with Bassets Holiday/Adoption Reunion
DESCRIPTION:
URL:https://www.bassethoundrescue.org/event/brunch-bassets-holidayadoption-reunion/
LOCATION:Central Park (near the dog park)\, Huntington Beach\, CA\, United States
END:VEVENT
END:VCALENDAR